BEGIN:VCALENDAR
VERSION:2.0
PRODID:-//pretalx//pretalx.com//sips2026-online//talk//KCU3US
BEGIN:VTIMEZONE
TZID:EST
BEGIN:STANDARD
DTSTART:20001029T030000
RRULE:FREQ=YEARLY;BYDAY=-1SU;BYMONTH=10;UNTIL=20061029T070000Z
TZNAME:EST
TZOFFSETFROM:-0400
TZOFFSETTO:-0500
END:STANDARD
BEGIN:STANDARD
DTSTART:20071104T030000
RRULE:FREQ=YEARLY;BYDAY=1SU;BYMONTH=11
TZNAME:EST
TZOFFSETFROM:-0400
TZOFFSETTO:-0500
END:STANDARD
BEGIN:DAYLIGHT
DTSTART:20000402T030000
RRULE:FREQ=YEARLY;BYDAY=1SU;BYMONTH=4;UNTIL=20060402T080000Z
TZNAME:EDT
TZOFFSETFROM:-0500
TZOFFSETTO:-0400
END:DAYLIGHT
BEGIN:DAYLIGHT
DTSTART:20070311T030000
RRULE:FREQ=YEARLY;BYDAY=2SU;BYMONTH=3
TZNAME:EDT
TZOFFSETFROM:-0500
TZOFFSETTO:-0400
END:DAYLIGHT
END:VTIMEZONE
BEGIN:VEVENT
UID:pretalx-sips2026-online-KCU3US@pretalx.com
DTSTART;TZID=EST:20260506T110000
DTEND;TZID=EST:20260506T123000
DESCRIPTION:In 2025\, PsyArXiv instituted a pre-moderation system where upl
 oads have to be accepted before they become visible to the public. This pr
 ocess ensures more consistency\, but also places the responsibility of sha
 ping the archive into the hands of a small number of volunteers. Moderator
 s have to define what counts as scientific psychology to decide which subm
 issions are within scope. Because some more generalist archives have close
 d due to an overwhelming amount of AI-generated submissions\, authors whos
 e work does not neatly fall into a specific discipline are shopping around
  and some are testing the waters to see if PsyArXiv fits. In this hackatho
 n\, we will explore how to best define scientific psychology for the purpo
 ses of PsyArXiv\, balancing preserving integrity while not closing it to a
 lternative voices. What are the minimal standards we should expect a prepr
 int to have in order that it can contribute to scientific discourse?
DTSTAMP:20260420T103113Z
LOCATION:Track 1 (Wed)
SUMMARY:What does a future archive of scientific psychology look like? - He
 lena Paterson\, Anna Butters\, Brendan Schuetze
URL:https://pretalx.com/sips2026-online/talk/KCU3US/
END:VEVENT
END:VCALENDAR
